BEGIN:VCALENDAR
VERSION:2.0
PRODID:-//JWJ Collectibles - ECPv6.14.0//NONSGML v1.0//EN
CALSCALE:GREGORIAN
METHOD:PUBLISH
X-WR-CALNAME:JWJ Collectibles
X-ORIGINAL-URL:https://jwjcollectibles.com
X-WR-CALDESC:Events for JWJ Collectibles
REFRESH-INTERVAL;VALUE=DURATION:PT1H
X-Robots-Tag:noindex
X-PUBLISHED-TTL:PT1H
BEGIN:VTIMEZONE
TZID:UTC
BEGIN:STANDARD
TZOFFSETFROM:+0000
TZOFFSETTO:+0000
TZNAME:UTC
DTSTART:20250101T000000
END:STANDARD
END:VTIMEZONE
BEGIN:VEVENT
DTSTART;TZID=UTC:20250712T090000
DTEND;TZID=UTC:20250713T170000
DTSTAMP:20260420T060219
CREATED:20250708T172745Z
LAST-MODIFIED:20250708T172745Z
UID:5265-1752310800-1752426000@jwjcollectibles.com
SUMMARY:Tampa Toy Con
DESCRIPTION:
URL:https://jwjcollectibles.com/event/tampa-toy-con
LOCATION:Florida State Fair\, 4800 U.S. Hwy 301 N\, Tampa\, FL\, 33610\, United States
ATTACH;FMTTYPE=image/jpeg:https://jwjcollectibles.com/wp-content/uploads/2025/07/514360660_23912950678394348_2347225845447879420_n.jpg
END:VEVENT
END:VCALENDAR