BEGIN:VCALENDAR
VERSION:2.0
PRODID:-//JWJ Collectibles - ECPv6.14.0//NONSGML v1.0//EN
CALSCALE:GREGORIAN
METHOD:PUBLISH
X-WR-CALNAME:JWJ Collectibles
X-ORIGINAL-URL:https://jwjcollectibles.com
X-WR-CALDESC:Events for JWJ Collectibles
REFRESH-INTERVAL;VALUE=DURATION:PT1H
X-Robots-Tag:noindex
X-PUBLISHED-TTL:PT1H
BEGIN:VTIMEZONE
TZID:UTC
BEGIN:STANDARD
TZOFFSETFROM:+0000
TZOFFSETTO:+0000
TZNAME:UTC
DTSTART:20250101T000000
END:STANDARD
END:VTIMEZONE
BEGIN:VTIMEZONE
TZID:Atlantic/South_Georgia
BEGIN:STANDARD
TZOFFSETFROM:-0200
TZOFFSETTO:-0200
TZNAME:-02
DTSTART:20250101T000000
END:STANDARD
END:VTIMEZONE
BEGIN:VEVENT
DTSTART;TZID=UTC:20250906T090000
DTEND;TZID=UTC:20250907T160000
DTSTAMP:20260420T013314
CREATED:20250709T155128Z
LAST-MODIFIED:20250709T155128Z
UID:5299-1757149200-1757260800@jwjcollectibles.com
SUMMARY:Ft. Myers Collectorfest
DESCRIPTION:
URL:https://jwjcollectibles.com/event/ft-myers-collectorfest
LOCATION:Caloosa Sound Convention Center\, 1375 Monroe St\, Fort Myers\, FL\, 33901\, United States
ATTACH;FMTTYPE=image/png:https://jwjcollectibles.com/wp-content/uploads/2025/07/Ft.-Myers-Collector-Fest.png
END:VEVENT
BEGIN:VEVENT
DTSTART;TZID=UTC:20250914T090000
DTEND;TZID=UTC:20250914T160000
DTSTAMP:20260420T013314
CREATED:20250709T155649Z
LAST-MODIFIED:20250709T155649Z
UID:5304-1757840400-1757865600@jwjcollectibles.com
SUMMARY:Bradenton Area Collectorfest 2025
DESCRIPTION:
URL:https://jwjcollectibles.com/event/bradenton-area-collectorfest-2025
LOCATION:Palmetto Marriott Resort & Spa\, 600 US-41\, Palmetto\, FL\, 34211\, United States
ATTACH;FMTTYPE=image/png:https://jwjcollectibles.com/wp-content/uploads/2025/07/Bradenton-show.png
END:VEVENT
BEGIN:VEVENT
DTSTART;TZID=Atlantic/South_Georgia:20250920T100000
DTEND;TZID=Atlantic/South_Georgia:20250921T170000
DTSTAMP:20260420T013314
CREATED:20250709T144748Z
LAST-MODIFIED:20250709T144955Z
UID:5294-1758362400-1758474000@jwjcollectibles.com
SUMMARY:Ocala Comic Con
DESCRIPTION:
URL:https://jwjcollectibles.com/event/ocala-comic-con
LOCATION:WORLD EQUESTRIAN CENTER EXPO 1 BUILDING\, 1284 NW 87th Ct RD\, Ocala\, FL\, 34482\, United States
ATTACH;FMTTYPE=image/png:https://jwjcollectibles.com/wp-content/uploads/2025/07/OCC-STACKED-LOGO.png
END:VEVENT
END:VCALENDAR