BEGIN:VCALENDAR
VERSION:2.0
PRODID:-//JWJ Collectibles - ECPv6.14.0//NONSGML v1.0//EN
CALSCALE:GREGORIAN
METHOD:PUBLISH
X-WR-CALNAME:JWJ Collectibles
X-ORIGINAL-URL:https://jwjcollectibles.com
X-WR-CALDESC:Events for JWJ Collectibles
REFRESH-INTERVAL;VALUE=DURATION:PT1H
X-Robots-Tag:noindex
X-PUBLISHED-TTL:PT1H
BEGIN:VTIMEZONE
TZID:UTC
BEGIN:STANDARD
TZOFFSETFROM:+0000
TZOFFSETTO:+0000
TZNAME:UTC
DTSTART:20260101T000000
END:STANDARD
END:VTIMEZONE
BEGIN:VEVENT
DTSTART;TZID=UTC:20260118T090000
DTEND;TZID=UTC:20260118T160000
DTSTAMP:20260419T183956
CREATED:20251222T212209Z
LAST-MODIFIED:20251222T212209Z
UID:5474-1768726800-1768752000@jwjcollectibles.com
SUMMARY:Ft. Myers CollectorFest!!
DESCRIPTION:🚨 ONE DAY ONLY — BACK IN FT. MYERS! 🚨 \nJWJ Collectibles is headed to Ft. Myers Collectorfest on Sunday\, January 18th\, 2026 at the Caloosa Sound Convention Center — and you do NOT want to miss this one. \n🎲 Toys • Comics • Games • Cards • Autographs & MoreFrom Star Wars and Marvel to Pokémon\, Funko\, vintage toys\, and pop culture collectibles\, this show has something for every collector. \n🕘 9AM–4PM👨‍👩‍👧 Kids under 12 FREE \nCome shop\, trade\, and hang out with fellow collectors — and make sure to stop by the JWJ Collectibles booth for some 🔥 inventory\, surprises\, and collector favorites. \n📍 1375 Monroe St\, Fort Myers\, FL 33901👉 More info: floridatoyshows.com \nClear your schedule. Bring your want list. Let’s collect.
URL:https://jwjcollectibles.com/event/ft-myers-collectorfest-2
LOCATION:Caloosa Sound Convention Center\, 1375 Monroe St\, Fort Myers\, FL\, 33901\, United States
ATTACH;FMTTYPE=image/jpeg:https://jwjcollectibles.com/wp-content/uploads/2025/12/Ft-myers.jpg
END:VEVENT
END:VCALENDAR